BEGIN:VCALENDAR
VERSION:2.0
PRODID:-//CPCS Website - ECPv6.15.20//NONSGML v1.0//EN
CALSCALE:GREGORIAN
METHOD:PUBLISH
X-WR-CALNAME:CPCS Website
X-ORIGINAL-URL:https://www.publiccounsel.net
X-WR-CALDESC:Events for CPCS Website
REFRESH-INTERVAL;VALUE=DURATION:PT1H
X-Robots-Tag:noindex
X-PUBLISHED-TTL:PT1H
BEGIN:VTIMEZONE
TZID:UTC
BEGIN:STANDARD
TZOFFSETFROM:+0000
TZOFFSETTO:+0000
TZNAME:UTC
DTSTART:20240101T000000
END:STANDARD
END:VTIMEZONE
BEGIN:VEVENT
DTSTART;TZID=UTC:20250410T090000
DTEND;TZID=UTC:20250410T170000
DTSTAMP:20260423T181958
CREATED:20241109T024619Z
LAST-MODIFIED:20241109T025257Z
UID:10002767-1744275600-1744304400@www.publiccounsel.net
SUMMARY:Communicating with Children/Determining their Position
DESCRIPTION:But Why? Communicating & Collaborating with Kids About Being in Care
URL:https://www.publiccounsel.net/event/communicating-with-children-determining-their-position-4/
LOCATION:CPCS Holyoke\, 100 Front Street\, Holyoke\, MA\, 01040\, United States
END:VEVENT
END:VCALENDAR