BEGIN:VCALENDAR
VERSION:2.0
PRODID:-//CPCS Website - ECPv6.15.20//NONSGML v1.0//EN
CALSCALE:GREGORIAN
METHOD:PUBLISH
X-WR-CALNAME:CPCS Website
X-ORIGINAL-URL:https://www.publiccounsel.net
X-WR-CALDESC:Events for CPCS Website
REFRESH-INTERVAL;VALUE=DURATION:PT1H
X-Robots-Tag:noindex
X-PUBLISHED-TTL:PT1H
BEGIN:VTIMEZONE
TZID:America/New_York
BEGIN:DAYLIGHT
TZOFFSETFROM:-0500
TZOFFSETTO:-0400
TZNAME:EDT
DTSTART:20240310T070000
END:DAYLIGHT
BEGIN:STANDARD
TZOFFSETFROM:-0400
TZOFFSETTO:-0500
TZNAME:EST
DTSTART:20241103T060000
END:STANDARD
BEGIN:DAYLIGHT
TZOFFSETFROM:-0500
TZOFFSETTO:-0400
TZNAME:EDT
DTSTART:20250309T070000
END:DAYLIGHT
BEGIN:STANDARD
TZOFFSETFROM:-0400
TZOFFSETTO:-0500
TZNAME:EST
DTSTART:20251102T060000
END:STANDARD
BEGIN:DAYLIGHT
TZOFFSETFROM:-0500
TZOFFSETTO:-0400
TZNAME:EDT
DTSTART:20260308T070000
END:DAYLIGHT
BEGIN:STANDARD
TZOFFSETFROM:-0400
TZOFFSETTO:-0500
TZNAME:EST
DTSTART:20261101T060000
END:STANDARD
END:VTIMEZONE
BEGIN:VTIMEZONE
TZID:UTC
BEGIN:STANDARD
TZOFFSETFROM:+0000
TZOFFSETTO:+0000
TZNAME:UTC
DTSTART:20230101T000000
END:STANDARD
END:VTIMEZONE
BEGIN:VEVENT
DTSTART;TZID=America/New_York:20250618T140000
DTEND;TZID=America/New_York:20250618T160000
DTSTAMP:20260423T141119
CREATED:20250331T185856Z
LAST-MODIFIED:20250509T155704Z
UID:10002873-1750255200-1750262400@www.publiccounsel.net
SUMMARY:Medical Parole Certification
DESCRIPTION:This training will provide a walk through of medical parole representation as a companion to the practice’s performance standards. The training is open to only those who have been accepted to take medical parole cases.  Interested attorneys can contact the parole unit at parole@publiccounsel.net. \n  \n2 CLEs for medical parole \n 
URL:https://www.publiccounsel.net/event/medical-parole-certification/
LOCATION:Zoom
ORGANIZER;CN="Mara Voukydis":MAILTO:mvoukydis@publiccounsel.net
END:VEVENT
BEGIN:VEVENT
DTSTART;TZID=America/New_York:20250603T140000
DTEND;TZID=America/New_York:20250603T153000
DTSTAMP:20260423T141119
CREATED:20250331T185628Z
LAST-MODIFIED:20250331T185717Z
UID:10002872-1748959200-1748964600@www.publiccounsel.net
SUMMARY:Working with Social Service Experts on Parole Cases
DESCRIPTION:This training\, presented by an attorney and social service expert duo\, is open to already certified parole attorneys as well as social service experts who handle or are interested in handling parole cases. \n1.5 CLEs for parole. \ncontact parole@publiccounsel.net for more information
URL:https://www.publiccounsel.net/event/working-with-social-service-experts-on-parole-cases/
LOCATION:Zoom
ORGANIZER;CN="Mara Voukydis":MAILTO:mvoukydis@publiccounsel.net
END:VEVENT
BEGIN:VEVENT
DTSTART;TZID=UTC:20240614T130000
DTEND;TZID=UTC:20240614T150000
DTSTAMP:20260423T141119
CREATED:20240502T211200Z
LAST-MODIFIED:20240502T211200Z
UID:10002055-1718370000-1718377200@www.publiccounsel.net
SUMMARY:Save the Date: Medical Parole Now
DESCRIPTION:[vc_row][vc_column][vc_column_text css=””]Working Title: Medical Parole Now \nFriday\, June 14 \n1-3pm \nVirtual (but may include an in-person option in Boston if possible) \n2 Medical Parole CLE Credits Available \n* A note that this is only open to current medical parole counsel. \n  \nThis training\, presented by Jack Godleski\, Ruth Greenberg and Mark Bluver\, will cover practice fundamentals including guidance on all aspects of representation from the screening to release\, as well as decision-making following a medical parole denial. It will include a rundown of where we are now and where we can go next\, in consideration of medical parole litigation. \nFor Questions\, please reach out to Sadia Ahmad at sahmad@publiccounsel.net \n [/vc_column_text][/vc_column][/vc_row]
URL:https://www.publiccounsel.net/event/save-the-date-medical-parole-now/
ORGANIZER;CN="Mara Voukydis":MAILTO:mvoukydis@publiccounsel.net
END:VEVENT
BEGIN:VEVENT
DTSTART;TZID=UTC:20240522T133000
DTEND;TZID=UTC:20240522T153000
DTSTAMP:20260423T141119
CREATED:20240419T230626Z
LAST-MODIFIED:20240419T230626Z
UID:10002052-1716384600-1716391800@www.publiccounsel.net
SUMMARY:Disability and the Meaningful Opportunity for Parole Release Training
DESCRIPTION:[vc_row][vc_column][vc_column_text css=””]SAVE THE DATE! MAY 22\, 2024\, 1:30 PM TO 3:30 PM \n*PLEASE NOTE: This program is open only to current Parole Counsel. \nThis training will provide 2 parole CLEs for live attendees \nZoom link and further information about the content will be sent at a later date. The training will be recorded for those who are not available.[/vc_column_text][/vc_column][/vc_row]
URL:https://www.publiccounsel.net/event/disability-and-the-meaningful-opportunity-for-parole-release-training/
ORGANIZER;CN="Mara Voukydis":MAILTO:mvoukydis@publiccounsel.net
END:VEVENT
END:VCALENDAR