BEGIN:VCALENDAR
VERSION:2.0
PRODID:-//CPCS Website - ECPv6.15.20//NONSGML v1.0//EN
CALSCALE:GREGORIAN
METHOD:PUBLISH
X-WR-CALNAME:CPCS Website
X-ORIGINAL-URL:https://www.publiccounsel.net
X-WR-CALDESC:Events for CPCS Website
REFRESH-INTERVAL;VALUE=DURATION:PT1H
X-Robots-Tag:noindex
X-PUBLISHED-TTL:PT1H
BEGIN:VTIMEZONE
TZID:UTC
BEGIN:STANDARD
TZOFFSETFROM:+0000
TZOFFSETTO:+0000
TZNAME:UTC
DTSTART:20230101T000000
END:STANDARD
END:VTIMEZONE
BEGIN:VEVENT
DTSTART;TZID=UTC:20240429T130000
DTEND;TZID=UTC:20240429T143000
DTSTAMP:20260423T143242
CREATED:20240408T184803Z
LAST-MODIFIED:20240409T190546Z
UID:10002048-1714395600-1714401000@www.publiccounsel.net
SUMMARY:Cross Examination Training
DESCRIPTION:[vc_row][vc_column][vc_column_text]There’s nothing more satisfying than a good cross-examination. Come learn how to use DCF’s witness to make your client’s case. This session will provide participants with practical skills to implement during the cross-examination of a DCF case worker. Through an interactive BINGO game and live demonstrations\, learn techniques to turn the worker’s testimony to your advantage. The session will provide information on the need for formal discovery\, the importance of preparation\, techniques for controlling the witness\, and cheat sheets to use in court. \nPresenters:\nEleanor Wilkinson and Victoria Bleier \nNote: 1.5 CLE credit for each webinar for attorneys on each of the following panels: CAFL\, CAFL Appeals. \nRegister here: https://us02web.zoom.us/meeting/register/tZIsc-6orTMoGdL1vIsfUGICFf4w0W4CG-wg \n[/vc_column_text][/vc_column][/vc_row]
URL:https://www.publiccounsel.net/event/cross-examination-training/
LOCATION:Zoom
CATEGORIES:CPCS Private,Private Counsel|Public|Webinar,Private Counsel|Webinar
ORGANIZER;CN="CAFL Training":MAILTO:Cafltraining@publiccounsel.net
END:VEVENT
END:VCALENDAR