BEGIN:VCALENDAR
VERSION:2.0
PRODID:-//CPCS Website - ECPv6.15.20//NONSGML v1.0//EN
CALSCALE:GREGORIAN
METHOD:PUBLISH
X-WR-CALNAME:CPCS Website
X-ORIGINAL-URL:https://www.publiccounsel.net
X-WR-CALDESC:Events for CPCS Website
REFRESH-INTERVAL;VALUE=DURATION:PT1H
X-Robots-Tag:noindex
X-PUBLISHED-TTL:PT1H
BEGIN:VTIMEZONE
TZID:UTC
BEGIN:STANDARD
TZOFFSETFROM:+0000
TZOFFSETTO:+0000
TZNAME:UTC
DTSTART:20230101T000000
END:STANDARD
END:VTIMEZONE
BEGIN:VEVENT
DTSTART;TZID=UTC:20240418T140000
DTEND;TZID=UTC:20240418T153000
DTSTAMP:20260419T120804
CREATED:20240105T030840Z
LAST-MODIFIED:20240401T201441Z
UID:10001489-1713448800-1713454200@www.publiccounsel.net
SUMMARY:Kids Charged in Congregate Care
DESCRIPTION:[vc_row][vc_column][vc_column_text]Presenters: Carly Pedersen & Melanie Roberts \nNOTE: 1 .5 CLE credit for each webinar for attorneys on each of the following panels: YAD Trial & YAD Appeals. \nRegister here: https://us02web.zoom.us/meeting/register/tZUvdeGhqj4iHNUGLx0Hy0y757fHSgAcpNO7[/vc_column_text][vc_single_image image=”18679″ img_size=”full” alignment=”center” onclick=”custom_link” link=”https://us02web.zoom.us/meeting/register/tZUvdeGhqj4iHNUGLx0Hy0y757fHSgAcpNO7#/registration”][/vc_column][/vc_row]
URL:https://www.publiccounsel.net/event/kids-charged-in-congregate-care/
LOCATION:Zoom
CATEGORIES:CPCS Private,CPCS Staff,Public|Webinar,Remote,Webinar
END:VEVENT
END:VCALENDAR