BEGIN:VCALENDAR
VERSION:2.0
PRODID:-//CPCS Website - ECPv6.15.20//NONSGML v1.0//EN
CALSCALE:GREGORIAN
METHOD:PUBLISH
X-ORIGINAL-URL:https://www.publiccounsel.net
X-WR-CALDESC:Events for CPCS Website
REFRESH-INTERVAL;VALUE=DURATION:PT1H
X-Robots-Tag:noindex
X-PUBLISHED-TTL:PT1H
BEGIN:VTIMEZONE
TZID:UTC
BEGIN:STANDARD
TZOFFSETFROM:+0000
TZOFFSETTO:+0000
TZNAME:UTC
DTSTART:20230101T000000
END:STANDARD
END:VTIMEZONE
BEGIN:VEVENT
DTSTART;TZID=UTC:20240131T140000
DTEND;TZID=UTC:20240131T160000
DTSTAMP:20260421T175445
CREATED:20240126T210535Z
LAST-MODIFIED:20240126T210611Z
UID:10001998-1706709600-1706716800@www.publiccounsel.net
SUMMARY:Representing Survivors of Domestic Violence
DESCRIPTION:[vc_row][vc_column][vc_column_text]This webinar is sponsored by MCLE. \nThe focus of this discussion is on building the skills and capacity to provide comprehensive\, trauma-informed representation for victims and survivors of intimate partner violence. The faculty discusses what domestic violence is\, how it manifests\, and what should be considered when representing a survivor and techniques for doing so. \nThis program is a must-attend for family lawyers and lawyers new to survivor work and practicing family law! \nAgenda: \n\nWhat Is Domestic Violence?\nWho Are the Victims?\nRecognizing the Signs of Domestic Violence\nUnderstanding the Effects of Domestic Violence\nHow You Can Help Victims of Domestic Abuse\nTechniques for Representing Domestic Abuse Victims\nHow to Keep Safe: Safety Measures for Your Client and Their Children\nFamily Law Issues and Domestic Abuse\n\nNOTE: 2 CLE credit for each webinar for attorneys on each of the following panels: CAFL & CAFL Appeals. \nRegister Here[/vc_column_text][/vc_column][/vc_row]
URL:https://www.publiccounsel.net/event/representing-survivors-of-domestic-violence/
CATEGORIES:MCLE,MCLE|Webinar
ORGANIZER;CN="MCLE":MAILTO:https://www.mcle.org/
END:VEVENT
END:VCALENDAR