BEGIN:VCALENDAR
VERSION:2.0
PRODID:-//CPCS Website - ECPv6.15.20//NONSGML v1.0//EN
CALSCALE:GREGORIAN
METHOD:PUBLISH
X-WR-CALNAME:CPCS Website
X-ORIGINAL-URL:https://www.publiccounsel.net
X-WR-CALDESC:Events for CPCS Website
REFRESH-INTERVAL;VALUE=DURATION:PT1H
X-Robots-Tag:noindex
X-PUBLISHED-TTL:PT1H
BEGIN:VTIMEZONE
TZID:America/New_York
BEGIN:DAYLIGHT
TZOFFSETFROM:-0500
TZOFFSETTO:-0400
TZNAME:EDT
DTSTART:20250309T070000
END:DAYLIGHT
BEGIN:STANDARD
TZOFFSETFROM:-0400
TZOFFSETTO:-0500
TZNAME:EST
DTSTART:20251102T060000
END:STANDARD
BEGIN:DAYLIGHT
TZOFFSETFROM:-0500
TZOFFSETTO:-0400
TZNAME:EDT
DTSTART:20260308T070000
END:DAYLIGHT
BEGIN:STANDARD
TZOFFSETFROM:-0400
TZOFFSETTO:-0500
TZNAME:EST
DTSTART:20261101T060000
END:STANDARD
BEGIN:DAYLIGHT
TZOFFSETFROM:-0500
TZOFFSETTO:-0400
TZNAME:EDT
DTSTART:20270314T070000
END:DAYLIGHT
BEGIN:STANDARD
TZOFFSETFROM:-0400
TZOFFSETTO:-0500
TZNAME:EST
DTSTART:20271107T060000
END:STANDARD
END:VTIMEZONE
BEGIN:VEVENT
DTSTART;TZID=America/New_York:20260111T130000
DTEND;TZID=America/New_York:20260111T140000
DTSTAMP:20260419T175443
CREATED:20260115T171257Z
LAST-MODIFIED:20260115T171257Z
UID:10003064-1768136400-1768140000@www.publiccounsel.net
SUMMARY:Regional Wellness Chat – Boston (Federal Street)
DESCRIPTION:Please RSVP by emailing bkealy@publiccounsel.net \n \n1 CLE Approved for: CAFL\, YAD Trials & Appeals\, Criminal Trials\, MH Trials & Appeals
URL:https://www.publiccounsel.net/event/regional-wellness-chat-boston-federal-street/
CATEGORIES:In-Person
ORGANIZER;CN="Wellness Committee":MAILTO:bkealy@publiccounsel.net/jcoliflores@publiccounsel.net
END:VEVENT
END:VCALENDAR