BEGIN:VCALENDAR
VERSION:2.0
PRODID:-//CPCS Website - ECPv6.15.20//NONSGML v1.0//EN
CALSCALE:GREGORIAN
METHOD:PUBLISH
X-WR-CALNAME:CPCS Website
X-ORIGINAL-URL:https://www.publiccounsel.net
X-WR-CALDESC:Events for CPCS Website
REFRESH-INTERVAL;VALUE=DURATION:PT1H
X-Robots-Tag:noindex
X-PUBLISHED-TTL:PT1H
BEGIN:VTIMEZONE
TZID:America/New_York
BEGIN:DAYLIGHT
TZOFFSETFROM:-0500
TZOFFSETTO:-0400
TZNAME:EDT
DTSTART:20250309T070000
END:DAYLIGHT
BEGIN:STANDARD
TZOFFSETFROM:-0400
TZOFFSETTO:-0500
TZNAME:EST
DTSTART:20251102T060000
END:STANDARD
BEGIN:DAYLIGHT
TZOFFSETFROM:-0500
TZOFFSETTO:-0400
TZNAME:EDT
DTSTART:20260308T070000
END:DAYLIGHT
BEGIN:STANDARD
TZOFFSETFROM:-0400
TZOFFSETTO:-0500
TZNAME:EST
DTSTART:20261101T060000
END:STANDARD
BEGIN:DAYLIGHT
TZOFFSETFROM:-0500
TZOFFSETTO:-0400
TZNAME:EDT
DTSTART:20270314T070000
END:DAYLIGHT
BEGIN:STANDARD
TZOFFSETFROM:-0400
TZOFFSETTO:-0500
TZNAME:EST
DTSTART:20271107T060000
END:STANDARD
END:VTIMEZONE
BEGIN:VEVENT
DTSTART;TZID=America/New_York:20260220T093000
DTEND;TZID=America/New_York:20260220T123000
DTSTAMP:20260423T094251
CREATED:20260129T215332Z
LAST-MODIFIED:20260129T215419Z
UID:10003093-1771579800-1771590600@www.publiccounsel.net
SUMMARY:CPCS MHLD 2026 Commitment Bring Back
DESCRIPTION:CPCS MHLD 2026 Commitment Bring Back\n\n\n\n\nTHIS EVENT HAS BEEN RESCHEDULED FROM JANUARY 30th\, 20226\n\nAttorneys gather to share insights and experiences in Civil Commitment cases\, and hone trial skills to build community.\n\n\n\nWe are delighted to announce the return of the CPCS MHLD Civil Commitment Bring Back event. This exclusive occasion will provide an opportunity for collaborative discussion about the challenges\, triumphs\, and experiences encountered in our commitment cases as well as substantive learning and concrete trial skills development. \nThis unique gathering is open to all attorneys\, but attorneys who have successfully completed the Civil Commitment Certification within the last five years will be given priority for attendance. \nPlease register at the link here.  Your registration will also help our team choose what topics to cover inside of this training. \nLocation: CPCS 75 Federal St Office\, 5th Floor\, Conference Room A/B \nThis event counts for three (3) CLEs for MHLD Trial attorneys.
URL:https://www.publiccounsel.net/event/cpcs-mhld-2026-commitment-bring-back-2/
ORGANIZER;CN="CPCS Training Department":MAILTO:cpcs_training@publiccounsel.net
END:VEVENT
END:VCALENDAR