BEGIN:VCALENDAR
VERSION:2.0
PRODID:-//CPCS Website - ECPv6.15.20//NONSGML v1.0//EN
CALSCALE:GREGORIAN
METHOD:PUBLISH
X-ORIGINAL-URL:https://www.publiccounsel.net
X-WR-CALDESC:Events for CPCS Website
REFRESH-INTERVAL;VALUE=DURATION:PT1H
X-Robots-Tag:noindex
X-PUBLISHED-TTL:PT1H
BEGIN:VTIMEZONE
TZID:America/New_York
BEGIN:DAYLIGHT
TZOFFSETFROM:-0500
TZOFFSETTO:-0400
TZNAME:EDT
DTSTART:20240310T070000
END:DAYLIGHT
BEGIN:STANDARD
TZOFFSETFROM:-0400
TZOFFSETTO:-0500
TZNAME:EST
DTSTART:20241103T060000
END:STANDARD
BEGIN:DAYLIGHT
TZOFFSETFROM:-0500
TZOFFSETTO:-0400
TZNAME:EDT
DTSTART:20250309T070000
END:DAYLIGHT
BEGIN:STANDARD
TZOFFSETFROM:-0400
TZOFFSETTO:-0500
TZNAME:EST
DTSTART:20251102T060000
END:STANDARD
BEGIN:DAYLIGHT
TZOFFSETFROM:-0500
TZOFFSETTO:-0400
TZNAME:EDT
DTSTART:20260308T070000
END:DAYLIGHT
BEGIN:STANDARD
TZOFFSETFROM:-0400
TZOFFSETTO:-0500
TZNAME:EST
DTSTART:20261101T060000
END:STANDARD
END:VTIMEZONE
BEGIN:VEVENT
DTSTART;TZID=America/New_York:20251021T130000
DTEND;TZID=America/New_York:20251021T140000
DTSTAMP:20260422T115408
CREATED:20250930T170242Z
LAST-MODIFIED:20250930T170242Z
UID:10002989-1761051600-1761055200@www.publiccounsel.net
SUMMARY:“Litigating the School CRA Case” – a virtual  presentation by Marianne Brown\, Michael Kilkelly and Tim Sindelar
DESCRIPTION:Learn how to effectively advocate for student clients in school filed CRA actions. \nThis Presentation will cover Truancy and School Offenders CRAs and provide strategies for challenging such cases.  Learn: \n\nThe statutory framework;\nUsing school records to defeat these claims;\nUsing legal protections including IDEA\, MA special education law\, ESSA\, Mc-Kinney-Vento and school discipline protections\nStrategies and best practices.\n\nApproved for 1 CAFL CLE \nWatch  for a further announcement with registration information and more detail.
URL:https://www.publiccounsel.net/event/litigating-the-school-cra-case-a-virtual-presentation-by-marianne-brown-michael-kilkelly-and-tim-sindelar/
END:VEVENT
BEGIN:VEVENT
DTSTART;TZID=America/New_York:20251021T130000
DTEND;TZID=America/New_York:20251021T140000
DTSTAMP:20260422T115408
CREATED:20251003T155355Z
LAST-MODIFIED:20251003T155355Z
UID:10002996-1761051600-1761055200@www.publiccounsel.net
SUMMARY:“Litigating the School CRA Case” – a virtual presentation by Marianne Brown\, Michael Kilkelly and Tim Sindelar
DESCRIPTION:Learn how to effectively advocate for student clients in school filed CRA actions. \nThis Presentation will cover Truancy and School Offenders CRAs and provide strategies for challenging such cases.  Learn: \n\nThe statutory framework;\nUsing school records to defeat these claims;\nUsing legal protections including IDEA\, MA special education law\, ESSA\, Mc-Kinney-Vento and school discipline protections\nStrategies and best practices.\n\n  \nWatch for a further announcement with registration information and more detail.
URL:https://www.publiccounsel.net/event/litigating-the-school-cra-case-a-virtual-presentation-by-marianne-brown-michael-kilkelly-and-tim-sindelar-2/
END:VEVENT
END:VCALENDAR