BEGIN:VCALENDAR
VERSION:2.0
PRODID:-//CPCS Website - ECPv6.15.20//NONSGML v1.0//EN
CALSCALE:GREGORIAN
METHOD:PUBLISH
X-ORIGINAL-URL:https://www.publiccounsel.net
X-WR-CALDESC:Events for CPCS Website
REFRESH-INTERVAL;VALUE=DURATION:PT1H
X-Robots-Tag:noindex
X-PUBLISHED-TTL:PT1H
BEGIN:VTIMEZONE
TZID:UTC
BEGIN:STANDARD
TZOFFSETFROM:+0000
TZOFFSETTO:+0000
TZNAME:UTC
DTSTART:20240101T000000
END:STANDARD
END:VTIMEZONE
BEGIN:VEVENT
DTSTART;TZID=UTC:20250228T100000
DTEND;TZID=UTC:20250228T150000
DTSTAMP:20260425T105012
CREATED:20240903T235010Z
LAST-MODIFIED:20250115T152050Z
UID:10002283-1740736800-1740754800@www.publiccounsel.net
SUMMARY:MHLD Training - Guardianship Certification - Session 6
DESCRIPTION:In-Person Event \nDetails TBD
URL:https://www.publiccounsel.net/event/mhld-guardianship-certification-session-6/
END:VEVENT
END:VCALENDAR