BEGIN:VCALENDAR
VERSION:2.0
PRODID:-//CPCS Website - ECPv6.15.20//NONSGML v1.0//EN
CALSCALE:GREGORIAN
METHOD:PUBLISH
X-ORIGINAL-URL:https://www.publiccounsel.net
X-WR-CALDESC:Events for CPCS Website
REFRESH-INTERVAL;VALUE=DURATION:PT1H
X-Robots-Tag:noindex
X-PUBLISHED-TTL:PT1H
BEGIN:VTIMEZONE
TZID:America/New_York
BEGIN:DAYLIGHT
TZOFFSETFROM:-0500
TZOFFSETTO:-0400
TZNAME:EDT
DTSTART:20230312T070000
END:DAYLIGHT
BEGIN:STANDARD
TZOFFSETFROM:-0400
TZOFFSETTO:-0500
TZNAME:EST
DTSTART:20231105T060000
END:STANDARD
BEGIN:DAYLIGHT
TZOFFSETFROM:-0500
TZOFFSETTO:-0400
TZNAME:EDT
DTSTART:20240310T070000
END:DAYLIGHT
BEGIN:STANDARD
TZOFFSETFROM:-0400
TZOFFSETTO:-0500
TZNAME:EST
DTSTART:20241103T060000
END:STANDARD
BEGIN:DAYLIGHT
TZOFFSETFROM:-0500
TZOFFSETTO:-0400
TZNAME:EDT
DTSTART:20250309T070000
END:DAYLIGHT
BEGIN:STANDARD
TZOFFSETFROM:-0400
TZOFFSETTO:-0500
TZNAME:EST
DTSTART:20251102T060000
END:STANDARD
END:VTIMEZONE
BEGIN:VTIMEZONE
TZID:UTC
BEGIN:STANDARD
TZOFFSETFROM:+0000
TZOFFSETTO:+0000
TZNAME:UTC
DTSTART:20230101T000000
END:STANDARD
END:VTIMEZONE
BEGIN:VEVENT
DTSTART;TZID=America/New_York:20241213T090000
DTEND;TZID=America/New_York:20241213T130000
DTSTAMP:20260421T190650
CREATED:20241118T203518Z
LAST-MODIFIED:20241118T203609Z
UID:10002804-1734080400-1734094800@www.publiccounsel.net
SUMMARY:How to Make Money & Stay Out of Trouble—The Ethics of Practice
DESCRIPTION:When: December 13\, 2024 – 9:00 AM – 1:00 PM \nLive-Virtual Training \nRun a thriving law practice with no ethical missteps. Whether you are a new or experienced attorney\, this program gives you the essential tools to run a professional and successful law practice. A panel featuring a practitioner and counsel from the Office of Bar Counsel review the expectations and rules governing the ethical and responsible practice of law in Massachusetts. You learn the standards that represent the best traditions and highest aspirations of the legal profession as well as the best practices and procedures to make money while avoiding ethical mistakes. Take advantage of this opportunity to raise your practice to the next level of professional excellence. \nFor more information\, \, please check out the event’s web page here. \nImportant Note: Please be sure to register for the live webcast only and affirmatively select and click the tracking/attendance prompts throughout the program as it runs.  \nHosted by MCLE \nCochairs\nDorothy Anderson\, Esq.\, Office of Bar Counsel\, Massachusetts Board of Bar Overseers\, Boston\nJames S. Bolan\, Esq.\, Brecher\, Wyner\, Simons\, Fox & Bolan LLP\, Newton \nFaculty\nHeidi S. Alexander\, Esq.\, Massachusetts Supreme Judicial Court Standing Committee on Lawyer Well-Being\, Newton\nLuz A. Carrion\, Esq.\, Lawyers Concerned for Lawyers (LCL | MassLOMAP)\, Boston\nJoseph M. Makalusky\, Esq.\, Office of Bar Counsel\, Massachusetts Board of Bar Overseers\, Boston
URL:https://www.publiccounsel.net/event/how-to-make-money-stay-out-of-trouble-the-ethics-of-practice/
LOCATION:MA
END:VEVENT
BEGIN:VEVENT
DTSTART;TZID=UTC:20241213T090000
DTEND;TZID=UTC:20241213T170000
DTSTAMP:20260421T190650
CREATED:20240529T212523Z
LAST-MODIFIED:20240611T193152Z
UID:10002193-1734080400-1734109200@www.publiccounsel.net
SUMMARY:New Lawyer Bringback - Suppression and Evidence
DESCRIPTION:[vc_row][vc_column][vc_column_text css=””]New Lawyer Bring Back – Suppression and Evidence \nby invitation only \n[/vc_column_text][/vc_column][/vc_row]
URL:https://www.publiccounsel.net/event/new-lawyer-bringback-suppression-and-evidence/2024-12-13/
LOCATION:MA
ORGANIZER;CN="CPCS Training Department":MAILTO:cpcs_training@publiccounsel.net
END:VEVENT
END:VCALENDAR