BEGIN:VCALENDAR
VERSION:2.0
PRODID:-//CPCS Website - ECPv6.15.20//NONSGML v1.0//EN
CALSCALE:GREGORIAN
METHOD:PUBLISH
X-ORIGINAL-URL:https://www.publiccounsel.net
X-WR-CALDESC:Events for CPCS Website
REFRESH-INTERVAL;VALUE=DURATION:PT1H
X-Robots-Tag:noindex
X-PUBLISHED-TTL:PT1H
BEGIN:VTIMEZONE
TZID:UTC
BEGIN:STANDARD
TZOFFSETFROM:+0000
TZOFFSETTO:+0000
TZNAME:UTC
DTSTART:20230101T000000
END:STANDARD
END:VTIMEZONE
BEGIN:VEVENT
DTSTART;TZID=UTC:20241015T160000
DTEND;TZID=UTC:20241015T180000
DTSTAMP:20260421T082448
CREATED:20240916T205923Z
LAST-MODIFIED:20240916T223610Z
UID:10002685-1729008000-1729015200@www.publiccounsel.net
SUMMARY:Social Law Library: Preserving the Record and Standards of Review
DESCRIPTION:This program is hosted by Social Law Library Any questions or issues regarding this program should be directed there (msaporito@socialaw.com) This event is being listed for informational purposes only. CPCS staff cannot assist with\, or solve\, registration issues. \nNOTE: 2 CLE credit for each webinar for attorneys on each of the following CPCS panels: Criminal Defense Trial\,  Adult Post-Conviction\, YAD Trial and Appeals\, Mental Health Appeals\, and SDP panels. \nDay 1 (October 15) will address how to preserve and raise issues for appeal in criminal cases.  \nDay 2 (October 22) will address how to understand and apply the layered standards of review on appeal in criminal cases.  \nPlease see link below for more information\, including how to register: \nhttps://socialaw.com/preserverecord
URL:https://www.publiccounsel.net/event/social-law-library-preserving-the-record-and-standards-of-review/2024-10-15/
LOCATION:MA
ORGANIZER;CN="Social Law Library":MAILTO:msaporito@socialaw.com
END:VEVENT
END:VCALENDAR