BEGIN:VCALENDAR
VERSION:2.0
PRODID:-//CPCS Website - ECPv6.15.20//NONSGML v1.0//EN
CALSCALE:GREGORIAN
METHOD:PUBLISH
X-ORIGINAL-URL:https://www.publiccounsel.net
X-WR-CALDESC:Events for CPCS Website
REFRESH-INTERVAL;VALUE=DURATION:PT1H
X-Robots-Tag:noindex
X-PUBLISHED-TTL:PT1H
BEGIN:VTIMEZONE
TZID:UTC
BEGIN:STANDARD
TZOFFSETFROM:+0000
TZOFFSETTO:+0000
TZNAME:UTC
DTSTART:20230101T000000
END:STANDARD
END:VTIMEZONE
BEGIN:VEVENT
DTSTART;TZID=UTC:20240627T030000
DTEND;TZID=UTC:20240627T163000
DTSTAMP:20260425T122112
CREATED:20240626T002243Z
LAST-MODIFIED:20240626T002414Z
UID:10002200-1719457200-1719505800@www.publiccounsel.net
SUMMARY:A View from the Bench Navigating Barriers to Justice: Court Access for  People with Disabilities and Non-English  Speakers
DESCRIPTION:[vc_row][vc_column][vc_single_image image=”18944″ img_size=”full” alignment=”center” css=””][/vc_column][/vc_row]
URL:https://www.publiccounsel.net/event/a-view-from-the-bench-navigating-barriers-to-justice-court-access-for-people-with-disabilities-and-non-english-speakers/
LOCATION:Franklin County Justice Center\, 43 Hope Street\, Greenfield\, 01301\, United States
END:VEVENT
END:VCALENDAR