BEGIN:VCALENDAR
VERSION:2.0
PRODID:-//CPCS Website - ECPv6.15.20//NONSGML v1.0//EN
CALSCALE:GREGORIAN
METHOD:PUBLISH
X-WR-CALNAME:CPCS Website
X-ORIGINAL-URL:https://www.publiccounsel.net
X-WR-CALDESC:Events for CPCS Website
REFRESH-INTERVAL;VALUE=DURATION:PT1H
X-Robots-Tag:noindex
X-PUBLISHED-TTL:PT1H
BEGIN:VTIMEZONE
TZID:UTC
BEGIN:STANDARD
TZOFFSETFROM:+0000
TZOFFSETTO:+0000
TZNAME:UTC
DTSTART:20230101T000000
END:STANDARD
END:VTIMEZONE
BEGIN:VEVENT
DTSTART;TZID=UTC:20240620T130000
DTEND;TZID=UTC:20240620T163000
DTSTAMP:20260425T104229
CREATED:20240104T024834Z
LAST-MODIFIED:20240403T222254Z
UID:10001483-1718888400-1718901000@www.publiccounsel.net
SUMMARY:CAFL's Preparing for Trial Training: Spring 2024
DESCRIPTION:[vc_row][vc_column][vc_column_text]We are running our remote Preparing for Trial Training\, formerly known as Trial Practice Training\, Spring of 2024. The training will be a mix of live on-line sessions and substantial self-directed learning. You will spend much of the live sessions in a small group with faculty. The dates of the training are June 5\, 2024\, from 2 to 4 p.m.\, and June 10\, 13\, 17\, 20\, 2024\, 1:00 to 4:30 p.m. The training is mandatory for all new CAFL attorneys. \n[/vc_column_text][/vc_column][/vc_row]
URL:https://www.publiccounsel.net/event/preparing-for-trial-training-summer-2024/2024-06-20/
LOCATION:Zoom
ORGANIZER;CN="CAFL Training":MAILTO:Cafltraining@publiccounsel.net
END:VEVENT
END:VCALENDAR