BEGIN:VCALENDAR
VERSION:2.0
PRODID:-//CPCS Website - ECPv6.15.20//NONSGML v1.0//EN
CALSCALE:GREGORIAN
METHOD:PUBLISH
X-WR-CALNAME:CPCS Website
X-ORIGINAL-URL:https://www.publiccounsel.net
X-WR-CALDESC:Events for CPCS Website
REFRESH-INTERVAL;VALUE=DURATION:PT1H
X-Robots-Tag:noindex
X-PUBLISHED-TTL:PT1H
BEGIN:VTIMEZONE
TZID:UTC
BEGIN:STANDARD
TZOFFSETFROM:+0000
TZOFFSETTO:+0000
TZNAME:UTC
DTSTART:20230101T000000
END:STANDARD
END:VTIMEZONE
BEGIN:VEVENT
DTSTART;TZID=UTC:20240607T130000
DTEND;TZID=UTC:20240607T150000
DTSTAMP:20260424T015323
CREATED:20240506T221909Z
LAST-MODIFIED:20240529T193415Z
UID:10002058-1717765200-1717772400@www.publiccounsel.net
SUMMARY:Mental Illness & Violence: Debunking the Myth
DESCRIPTION:[vc_row][vc_column][vc_column_text css=””] \n2 credit MHLD CLE program  \nTraining Topic:  Mental Illness and Violence \nDate & Time:  Friday\, June 7\, 2024\, 1:00pm to 3:00pm \nPlatform:  Zoom \nMeeting ID:  843 9912 6275 \nPasscode: 910992 \nPresented by: \nAnna Lembo\, Esq.\, Worcester county Regional Coordinator \nSusan O’Leary\, Norfolk Regional Coordinator \nAdvanced registration NOT required \nUpon completion of this seminar\, you will be able to: \n\nUnderstand that violent behavior among individuals with serious mental illness is relatively uncommon\nIdentify specific symptoms associated with violent behavior for some individuals with serious mental illness\nUnderstand that diagnoses alone cannot predict who may commit violence\nDevelop an effective approach to cross examining witnesses as to biases against people with mental illness are largely responsible for violent acts\n\n[/vc_column_text][/vc_column][/vc_row]
URL:https://www.publiccounsel.net/event/worcester-county-regional-coordinator-training-mental-health-litigation-division/
END:VEVENT
END:VCALENDAR