BEGIN:VCALENDAR
VERSION:2.0
PRODID:-//CPCS Website - ECPv6.15.20//NONSGML v1.0//EN
CALSCALE:GREGORIAN
METHOD:PUBLISH
X-WR-CALNAME:CPCS Website
X-ORIGINAL-URL:https://www.publiccounsel.net
X-WR-CALDESC:Events for CPCS Website
REFRESH-INTERVAL;VALUE=DURATION:PT1H
X-Robots-Tag:noindex
X-PUBLISHED-TTL:PT1H
BEGIN:VTIMEZONE
TZID:UTC
BEGIN:STANDARD
TZOFFSETFROM:+0000
TZOFFSETTO:+0000
TZNAME:UTC
DTSTART:20230101T000000
END:STANDARD
END:VTIMEZONE
BEGIN:VEVENT
DTSTART;TZID=UTC:20240329T140000
DTEND;TZID=UTC:20240329T160000
DTSTAMP:20260425T085842
CREATED:20240126T024237Z
LAST-MODIFIED:20240126T024334Z
UID:10001992-1711720800-1711728000@www.publiccounsel.net
SUMMARY:ZOOMing Ahead: Mastering Online Client Interactions & Hearings
DESCRIPTION:[vc_row][vc_column][vc_column_text] \n•Review technical essentials: Camera\,microphone\, lighting\, and background -filters\, etc. \n•Overcome Common Virtual Challenges•Conduct Effective Virtual Court Hearings \n•Increase attorney skills through theintroduction of a practical session and Q&A. \n2 CPCS MHLU CLE credit hours \nRegister Here:\nhttps://www.eventbrite.com/e/zooming-ahead-mastering-online-client-interactions-hearings-tickets-809682631547?aff=oddtdtcreator \n[/vc_column_text][/vc_column][/vc_row]
URL:https://www.publiccounsel.net/event/zooming-ahead-mastering-online-client-interactions-hearings/
ORGANIZER;CN="Toni Hall":MAILTO:attyhall@gmail.com
END:VEVENT
END:VCALENDAR